BEGIN:VCALENDAR
VERSION:2.0
PRODID:TU Chemnitz
METHOD:PUBLISH
X-WR-CALNAME:Veranstaltungen der TU Chemnitz
X-WR-TIMEZONE:Europe/Berlin
BEGIN:VEVENT
CLASS:PUBLIC
DTSTART;TZID="Europe/Berlin":20080627T130000
DTEND;TZID="Europe/Berlin":20080627T160000
LOCATION:SIT - Sächsiche Industrie- und Technologiemesse in Messe Chemnitz
SUMMARY:Workshop "Kompetenzzellenbasierte Produktionsnetze" (Fakultät für Maschinenbau)
DESCRIPTION:Mitarbeiter(innen) der Technischen Universität Chemnitz
ORGANIZER:MAILTO:melanie.kreye@mb.tu-chemnitz.de
UID:10445@www.tu-chemnitz.de
CREATED:20080624T152400Z
DTSTAMP:20210802T194125Z
END:VEVENT
END:VCALENDAR
