BEGIN:VCALENDAR
VERSION:2.0
PRODID:TU Chemnitz
METHOD:PUBLISH
X-WR-CALNAME:Veranstaltungen der TU Chemnitz
X-WR-TIMEZONE:Europe/Berlin
BEGIN:VEVENT
CLASS:PUBLIC
DTSTART;TZID="Europe/Berlin":20080627T090000
DTEND;TZID="Europe/Berlin":20080627T094500
LOCATION:SIT - Sächsiche Industrie- und Technologiemesse in Messe Chemnitz
SUMMARY:Verbesserung der Energieeffizienz in KMU - EU-Projekt "IEC-SME" (Fakultät für Maschinenbau)
DESCRIPTION:Mitarbeiter(innen) der Technischen Universität Chemnitz
ORGANIZER:MAILTO:melanie.kreye@mb.tu-chemnitz.de
UID:10443@www.tu-chemnitz.de
CREATED:20080624T152100Z
DTSTAMP:20210802T194119Z
END:VEVENT
END:VCALENDAR
