BEGIN:VCALENDAR
VERSION:2.0
PRODID:TU Chemnitz
METHOD:PUBLISH
X-WR-CALNAME:Veranstaltungen der TU Chemnitz
X-WR-TIMEZONE:Europe/Berlin
BEGIN:VEVENT
CLASS:PUBLIC
DTSTART;TZID="Europe/Berlin":20080630T190000
DTEND;TZID="Europe/Berlin":20080630T230000
LOCATION:Reichenhainer Str. 55\, Chemnitz (Mensa)
SUMMARY:~Open-Air Kino~ Ratatouille (Unifilm Chemnitz)
DESCRIPTION:Open-Air unten Sand - Kino auf dem Mensa-Vorplatz!!\nBeim BeachCup gibts heut "Ratatouille" im Sand auf dem Mensa-Vorplatz. Eintritt frei! Filmbeginn mit Einsetzen der Dunkelheit. Mehr Infos: www.mensa-treff.de.\n\nBei schlechtem Wetter ab 21.00 Uhr im TaC.
ORGANIZER:MAILTO:frank.scheibner@s2003.tu-chemnitz.de
UID:10442@www.tu-chemnitz.de
CREATED:20080624T084300Z
DTSTAMP:20210802T194113Z
END:VEVENT
END:VCALENDAR
