BEGIN:VCALENDAR
VERSION:2.0
PRODID:TU Chemnitz
METHOD:PUBLISH
X-WR-CALNAME:Veranstaltungen der TU Chemnitz
X-WR-TIMEZONE:Europe/Berlin
BEGIN:VEVENT
CLASS:PUBLIC
DTSTART;TZID="Europe/Berlin":20080626T190000
DTEND;TZID="Europe/Berlin":20080626T200000
LOCATION:Reichenhainer Str. 90\, Chemnitz (Zentr. Hörsaal- und Seminargebäude)
SUMMARY:Einsatz\, der sich lohnt - Eine Einführung in die Arbeit für die Menschenrechte (Philosophische Fakultät\, Lehrstuhl für Internationale Politik)
DESCRIPTION:Du kannst vielleicht nicht kochen\, aber DU kannst Folterern ins Handwerk pfuschen!\nAnhand von aktuellen Kampagnen wird die Arbeit der Menschenrechtsorganisation Amnesty International vorgestellt und über die Möglichkeiten dieser diskutiert.\nJens Wetzel\, Amnesty International\namnesty-chemnitz@web.de
ORGANIZER:MAILTO:elisabeth.zschorlich@s2006.tu-chemnitz.de
UID:10441@www.tu-chemnitz.de
CREATED:20080623T222000Z
DTSTAMP:20210802T194117Z
END:VEVENT
END:VCALENDAR
