BEGIN:VCALENDAR
VERSION:2.0
PRODID:TU Chemnitz
METHOD:PUBLISH
X-WR-CALNAME:Veranstaltungen der TU Chemnitz
X-WR-TIMEZONE:Europe/Berlin
BEGIN:VEVENT
CLASS:PUBLIC
DTSTART;TZID="Europe/Berlin":20080625T100000
DTEND;TZID="Europe/Berlin":20080625T100000
LOCATION:Str. der Nationen 62\, Chemnitz (Böttcher-Bau)
SUMMARY:123. Informatik-Kolloquium (Fakultät für Informatik\, Professur Medieninformatik)
DESCRIPTION:Vortrag zum Thema "Zeitlich indexierte Korpora in der Medienanalyse"\nM.A. Matthias Richter\, Fakultät für Mathematik und Informatik \, Universität Leipzig
ORGANIZER:MAILTO:dekanat@informatik.tu-chemnitz.de
UID:10440@www.tu-chemnitz.de
CREATED:20080623T130800Z
DTSTAMP:20210802T194118Z
END:VEVENT
END:VCALENDAR
