BEGIN:VCALENDAR
VERSION:2.0
PRODID:TU Chemnitz
METHOD:PUBLISH
X-WR-CALNAME:Veranstaltungen der TU Chemnitz
X-WR-TIMEZONE:Europe/Berlin
BEGIN:VEVENT
CLASS:PUBLIC
DTSTART;TZID="Europe/Berlin":20000522T090000
DTEND;TZID="Europe/Berlin":20000527T160000
LOCATION:Messegelände Frankfurt am Main\, Halle 1.2\, Stand B13-B18\, Gemeinschaftsstand FORSCHUNGSLAND SACHSEN
SUMMARY:Messe ACHEMA in Frankfurt am Main (Fakultät für Naturwissenschaften)
DESCRIPTION:Exponate Professur Technische Chemie:\n"Katalysatortest in chemischen Mikrosystemen"\n"Mikroreaktionstechnik für Dreiphasenhydrierungen"\nExponat Professur Physikalische Chemie/Elektrochemie:\n"Sensorsystem zur simultanen Bestimmung von 2 Analytionen"\n\nDietrich Taubert\, Wissenschaftliche Dienste\, Telefon: 0371/531-1327\, technologietransfer@tu-chemnitz.de
ORGANIZER:MAILTO:dta@hrz.tu-chemnitz.de
UID:1044@www.tu-chemnitz.de
CREATED:20000327T152400Z
DTSTAMP:20210802T203014Z
END:VEVENT
END:VCALENDAR
