BEGIN:VCALENDAR
VERSION:2.0
PRODID:TU Chemnitz
METHOD:PUBLISH
X-WR-CALNAME:Veranstaltungen der TU Chemnitz
X-WR-TIMEZONE:Europe/Berlin
BEGIN:VEVENT
CLASS:PUBLIC
DTSTART;TZID="Europe/Berlin":20080620T170000
DTEND;TZID="Europe/Berlin":20080620T200000
LOCATION:Reichenhainer Str. 70\, Chemnitz (Weinhold-Bau)
SUMMARY:1. Studententreffen der VDE Hochschulgruppe Chemnitz (VDE Hochschulgruppe)
DESCRIPTION:Gemeinsames Grillen\, Vorstellung der VDE Hochschulgruppe und interessante Gespräche\nVDE Hochschulgruppe Chemnitz
ORGANIZER:MAILTO:olfa.kanoun@etit.tu-chemnitz.de
UID:10433@www.tu-chemnitz.de
CREATED:20080619T222200Z
DTSTAMP:20210802T194124Z
END:VEVENT
END:VCALENDAR
