BEGIN:VCALENDAR
VERSION:2.0
PRODID:TU Chemnitz
METHOD:PUBLISH
X-WR-CALNAME:Veranstaltungen der TU Chemnitz
X-WR-TIMEZONE:Europe/Berlin
BEGIN:VEVENT
CLASS:PUBLIC
DTSTART;TZID="Europe/Berlin":20080709T153000
DTEND;TZID="Europe/Berlin":20080709T170000
LOCATION:Reichenhainer Str. 90\, Chemnitz (Zentr. Hörsaal- und Seminargebäude)
SUMMARY:NEOLIBERALE HOCHSCHULREFORM (Rosa-Luxemburg-Club Chemnitz)
DESCRIPTION:Alex Demirovic spricht zu den Folgen der aktuellen Hochschulreform für die Wissenschaften\, die im Wettbewerb\, mit Exzellenz\, Ranking\, Evalution und Effizienz für den Wissensmarkt "fit" getrimmt werden sollen.\nPROF. DR. ALEX DEMIROVIC\, TU BERLIN\nrlcchemnitz@web.de
ORGANIZER:MAILTO:thomas.draeger@s2002.tu-chemnitz.de
UID:10418@www.tu-chemnitz.de
CREATED:20080616T161000Z
DTSTAMP:20210802T194058Z
END:VEVENT
END:VCALENDAR
