BEGIN:VCALENDAR
VERSION:2.0
PRODID:TU Chemnitz
METHOD:PUBLISH
X-WR-CALNAME:Veranstaltungen der TU Chemnitz
X-WR-TIMEZONE:Europe/Berlin
BEGIN:VEVENT
CLASS:PUBLIC
DTSTART;TZID="Europe/Berlin":20080626T163000
DTEND;TZID="Europe/Berlin":20080626T183000
LOCATION:Reichenhainer Str. 90\, Chemnitz (Zentr. Hörsaal- und Seminargebäude)
SUMMARY:Mammografiescreening/ Brustkrebsfrüherkennung (Initiativgruppe der Gleichstellungs- und Frauenbeauftragten des Bundes und des Landes Sachsen im Raum Chemnitz)
DESCRIPTION:Ilse Worm\, Gesundheitswissenschaftlerin bei MEDEA\, Dresden\, spricht im Vortrag über Chancen und Grenzen des Mammografiescreenings. Sie steht nach dem Vortrag als kompetente Gesprächspartnerin zur Verfügung.\n\nEintritt frei!\nIlse Worm; Frauen- und Mädchengesundheitszentrum MEDEA\, Dresden\nkarla.kebsch@hil.tu-chemnitz.de
ORGANIZER:MAILTO:karla.kebsch@phil.tu-chemnitz.de
UID:10417@www.tu-chemnitz.de
CREATED:20080616T133500Z
DTSTAMP:20210802T194108Z
END:VEVENT
END:VCALENDAR
