BEGIN:VCALENDAR
VERSION:2.0
PRODID:TU Chemnitz
METHOD:PUBLISH
X-WR-CALNAME:Veranstaltungen der TU Chemnitz
X-WR-TIMEZONE:Europe/Berlin
BEGIN:VEVENT
CLASS:PUBLIC
DTSTART;TZID="Europe/Berlin":20080621T150000
DTEND;TZID="Europe/Berlin":20080622T130000
LOCATION:Reichenhainer Str. 39\, Chemnitz
SUMMARY:Formen visueller Repräsentation und Theorien des Sehens um 1400 (Philosophische Fakultät\, Professur Geschichte d. Mittelalters)
DESCRIPTION:Die Veranstaltung ist hochschulöffentlich. Interessierte Teilnehmer melden sich bitte vorher per e-mail an!\ns. Programm\nPD Dr. Norbert Schnitzler | nosc (at) hrz.tu-chemnitz.de
ORGANIZER:MAILTO:norbert.schnitzler@phil.tu-chemnitz.de
UID:10414@www.tu-chemnitz.de
CREATED:20080614T104100Z
DTSTAMP:20210802T194121Z
END:VEVENT
END:VCALENDAR
