BEGIN:VCALENDAR
VERSION:2.0
PRODID:TU Chemnitz
METHOD:PUBLISH
X-WR-CALNAME:Veranstaltungen der TU Chemnitz
X-WR-TIMEZONE:Europe/Berlin
BEGIN:VEVENT
CLASS:PUBLIC
DTSTART;TZID="Europe/Berlin":20080702T090000
DTEND;TZID="Europe/Berlin":20080702T160000
LOCATION:Str. der Nationen 62\, Chemnitz (Böttcher-Bau)
SUMMARY:Informatiktag 2008 (Fakultät für Informatik)
DESCRIPTION:Die Fakultät  präsentiert aktuelle Forschungsinhalte zu den drei Forschungsschwerpunkten.\nFür das Festprogramm konnten mehrere Vertreter aus renommierten IT-Unternehmen für Vorträge gewonnen werden.\nDr. Andreas Müller\, Tel.: 0371-53131644\, E-Mail: anmu@informatik.tu-chemnitz.de
ORGANIZER:MAILTO:dr.andreas.mueller@informatik.tu-chemnitz.de
UID:10409@www.tu-chemnitz.de
CREATED:20080611T170200Z
DTSTAMP:20210802T194056Z
END:VEVENT
END:VCALENDAR
