BEGIN:VCALENDAR
VERSION:2.0
PRODID:TU Chemnitz
METHOD:PUBLISH
X-WR-CALNAME:Veranstaltungen der TU Chemnitz
X-WR-TIMEZONE:Europe/Berlin
BEGIN:VEVENT
CLASS:PUBLIC
DTSTART;TZID="Europe/Berlin":20080701T171500
DTEND;TZID="Europe/Berlin":20080701T184500
LOCATION:Wilhelm-Raabe-Str. 43\, Chemnitz
SUMMARY:Institutskolloquium (Philosophische Fakultät\, Institut für Psychologie/WOS)
DESCRIPTION:"Der Einfluss prosozialer Medien auf pro- und antisoziale Tendenzen"\nProf. Dr. Tobias Greitemeyer\, University of Sussex\, England
ORGANIZER:MAILTO:annerose.koch@phil.tu-chemnitz.de
UID:10405@www.tu-chemnitz.de
CREATED:20080610T162600Z
DTSTAMP:20210802T194051Z
END:VEVENT
END:VCALENDAR
