BEGIN:VCALENDAR
VERSION:2.0
PRODID:TU Chemnitz
METHOD:PUBLISH
X-WR-CALNAME:Veranstaltungen der TU Chemnitz
X-WR-TIMEZONE:Europe/Berlin
BEGIN:VEVENT
CLASS:PUBLIC
DTSTART;TZID="Europe/Berlin":20080701T143000
DTEND;TZID="Europe/Berlin":20080702T210000
LOCATION:Reichenhainer Str. 90\, Chemnitz (Zentr. Hörsaal- und Seminargebäude)
SUMMARY:Einweihung des Neues Physikgebäude: Physikfest & Symposium (Fakultät für Naturwissenschaften\, Institut für Physik)
DESCRIPTION:0371 531 21500\, physik@tu-chemnitz.de
ORGANIZER:MAILTO:feige@physik.tu-chemnitz.de
UID:10401@www.tu-chemnitz.de
CREATED:20080605T184300Z
DTSTAMP:20210802T194051Z
END:VEVENT
END:VCALENDAR
