BEGIN:VCALENDAR
VERSION:2.0
PRODID:TU Chemnitz
METHOD:PUBLISH
X-WR-CALNAME:Veranstaltungen der TU Chemnitz
X-WR-TIMEZONE:Europe/Berlin
BEGIN:VEVENT
CLASS:PUBLIC
DTSTART;TZID="Europe/Berlin":20080617T210000
DTEND;TZID="Europe/Berlin":20080617T230000
LOCATION:Kino\, Reichenhainer Str. 35/37\, Keller
SUMMARY:[Campuskino * "mittendrin"] Eine Hochzeit und andere Kuriositäten (filmclub »mittendrin«)
DESCRIPTION:Abstruse Geschäfte und neue Leichen im Keller. Schrille Komödie\, die entgegen aller Unkenrufe zeigt\, dass das postkommunistische Polen über seine eigenen neuen Klischees lachen kann.
ORGANIZER:MAILTO:robert.gerstenberger@s2004.tu-chemnitz.de
UID:10392@www.tu-chemnitz.de
CREATED:20080604T155500Z
DTSTAMP:20210802T194114Z
END:VEVENT
END:VCALENDAR
