BEGIN:VCALENDAR
VERSION:2.0
PRODID:TU Chemnitz
METHOD:PUBLISH
X-WR-CALNAME:Veranstaltungen der TU Chemnitz
X-WR-TIMEZONE:Europe/Berlin
BEGIN:VEVENT
CLASS:PUBLIC
DTSTART;TZID="Europe/Berlin":20080612T210000
DTEND;TZID="Europe/Berlin":20080612T230000
LOCATION:Kino\, Reichenhainer Str. 35-37\, Keller
SUMMARY:[Campuskino * "mittendrin"] MathFilm Festival 2008 Enigma - Das Geheimnis (filmclub »mittendrin«)
DESCRIPTION:Tom Jericho soll den Code der deutschen U-Boote knacken. Seine Freundin wird jedoch verdächtig eine Spionin der Nazis zu sein. Irgendwie muss er ihr daraus helfen\, doch die Zeit wird knapp...\nEintriff frei
ORGANIZER:MAILTO:robert.gerstenberger@s2004.tu-chemnitz.de
UID:10390@www.tu-chemnitz.de
CREATED:20080604T152100Z
DTSTAMP:20210802T194115Z
END:VEVENT
END:VCALENDAR
