BEGIN:VCALENDAR
VERSION:2.0
PRODID:TU Chemnitz
METHOD:PUBLISH
X-WR-CALNAME:Veranstaltungen der TU Chemnitz
X-WR-TIMEZONE:Europe/Berlin
BEGIN:VEVENT
CLASS:PUBLIC
DTSTART;TZID="Europe/Berlin":20080603T200000
DTEND;TZID="Europe/Berlin":20080603T235900
LOCATION:Club der Kulturen
SUMMARY:Karaoke Night (TU Chemnitz\, English Club)
DESCRIPTION:"Hit me Baby one more time" with a great round of Karaoke. You’ve got "4 Minutes to safe the World"\, I mean party\, by going up the stage and try your best. "Lets get the party started" and show us your singing talent.
ORGANIZER:MAILTO:andrea.hermann@s2004.tu-chemnitz.de
UID:10375@www.tu-chemnitz.de
CREATED:20080529T150900Z
DTSTAMP:20210802T194113Z
END:VEVENT
END:VCALENDAR
