BEGIN:VCALENDAR
VERSION:2.0
PRODID:TU Chemnitz
METHOD:PUBLISH
X-WR-CALNAME:Veranstaltungen der TU Chemnitz
X-WR-TIMEZONE:Europe/Berlin
BEGIN:VEVENT
CLASS:PUBLIC
DTSTART;TZID="Europe/Berlin":20080528T200000
DTEND;TZID="Europe/Berlin":20080529T020000
LOCATION:Reichenhainer Str. 55\, Chemnitz (Mensa)
SUMMARY:Cocktailnight
DESCRIPTION:Special Five Happy Hour\nMusik von DJ Foque\nweitere Informationen unter www.mensa-treff.de
ORGANIZER:MAILTO:christian.piek@s1999.tu-chemnitz.de
UID:10355@www.tu-chemnitz.de
CREATED:20080524T133800Z
DTSTAMP:20210802T194145Z
END:VEVENT
END:VCALENDAR
