BEGIN:VCALENDAR
VERSION:2.0
PRODID:TU Chemnitz
METHOD:PUBLISH
X-WR-CALNAME:Veranstaltungen der TU Chemnitz
X-WR-TIMEZONE:Europe/Berlin
BEGIN:VEVENT
CLASS:PUBLIC
DTSTART;TZID="Europe/Berlin":20080709T171500
DTEND;TZID="Europe/Berlin":20080709T184500
LOCATION:Reichenhainer Str. 90\, Chemnitz (Zentr. Hörsaal- und Seminargebäude)
SUMMARY:Physikalisches Kolloquium: "Electronic and structural properties of functional interfaces with conjugated organic materials" (Fakultät für Naturwissenschaften\, Institut für Physik)
DESCRIPTION:Dr. Norbert Koch; Humboldt-Universität zu Berlin\, Institut für Physik\nProf. Dr. Dietrich R.T. Zahn\, Tel.: 531-33036
ORGANIZER:MAILTO:michaela.knierim@physik.tu-chemnitz.de
UID:10349@www.tu-chemnitz.de
CREATED:20080523T101600Z
DTSTAMP:20210802T194053Z
END:VEVENT
END:VCALENDAR
