BEGIN:VCALENDAR
VERSION:2.0
PRODID:TU Chemnitz
METHOD:PUBLISH
X-WR-CALNAME:Veranstaltungen der TU Chemnitz
X-WR-TIMEZONE:Europe/Berlin
BEGIN:VEVENT
CLASS:PUBLIC
DTSTART;TZID="Europe/Berlin":20080625T171500
DTEND;TZID="Europe/Berlin":20080625T184500
LOCATION:Reichenhainer Str. 90\, Chemnitz (Zentr. Hörsaal- und Seminargebäude)
SUMMARY:Physikalisches Kolloquium: "Epitaktisches Graphen und Clustergitter" (Fakultät für Naturwissenschaften\, Institut für Physik)
DESCRIPTION:Prof. Dr. Thomas Michely; Universität zu Köln\, II Physikalisches Institut\nProf. Dr. Frank Richter; Tel.: 531-38046
ORGANIZER:MAILTO:michaela.knierim@physik.tu-chemnitz.de
UID:10347@www.tu-chemnitz.de
CREATED:20080523T100700Z
DTSTAMP:20210802T194125Z
END:VEVENT
END:VCALENDAR
