BEGIN:VCALENDAR
VERSION:2.0
PRODID:TU Chemnitz
METHOD:PUBLISH
X-WR-CALNAME:Veranstaltungen der TU Chemnitz
X-WR-TIMEZONE:Europe/Berlin
BEGIN:VEVENT
CLASS:PUBLIC
DTSTART;TZID="Europe/Berlin":20080618T190000
DTEND;TZID="Europe/Berlin":20080618T203000
LOCATION:Reichenhainer Str. 90\, Chemnitz (Zentr. Hörsaal- und Seminargebäude)
SUMMARY:Sprache - Medien - Praxis: "Freuden und Tücken des Fachjournalismus" (Philosophische Fakultät\, IfGK)
DESCRIPTION:Georg Valtin\, ehemaliger Redakteur der Zeitschrift "Game Star"
ORGANIZER:MAILTO:ruth.geier@phil.tu-chemnitz.de
UID:10346@www.tu-chemnitz.de
CREATED:20080522T182200Z
DTSTAMP:20210802T194124Z
END:VEVENT
END:VCALENDAR
