BEGIN:VCALENDAR
VERSION:2.0
PRODID:TU Chemnitz
METHOD:PUBLISH
X-WR-CALNAME:Veranstaltungen der TU Chemnitz
X-WR-TIMEZONE:Europe/Berlin
BEGIN:VEVENT
CLASS:PUBLIC
DTSTART;TZID="Europe/Berlin":20080710T200000
DTEND;TZID="Europe/Berlin":20080710T230000
LOCATION:Reichenhainer Str. 35/37\, Chemnitz (Studentenwohnheim)
SUMMARY:Hans Waal - Die Nachhut (Studentenrat)
DESCRIPTION:Hans Waal liest aus seinem Erstlingswerk "Die Nachhut".\n\nEinlass 20:00 Uhr\nHans Waal
ORGANIZER:MAILTO:martin.fischer@s2003.tu-chemnitz.de
UID:10345@www.tu-chemnitz.de
CREATED:20080522T174700Z
DTSTAMP:20210802T194055Z
END:VEVENT
END:VCALENDAR
