BEGIN:VCALENDAR
VERSION:2.0
PRODID:TU Chemnitz
METHOD:PUBLISH
X-WR-CALNAME:Veranstaltungen der TU Chemnitz
X-WR-TIMEZONE:Europe/Berlin
BEGIN:VEVENT
CLASS:PUBLIC
DTSTART;TZID="Europe/Berlin":20080527T171500
DTEND;TZID="Europe/Berlin":20080527T184500
LOCATION:Reichenhainer Str. 70\, Chemnitz (Weinhold-Bau)
SUMMARY:Medientechnisches Kolloquium: "Wer druckt die Zeitung von morgen?" (Fakultät für Maschinenbau\, Institut für Print- und Medientechnik)
DESCRIPTION:Manfred Werfel\, Research Director and Deputy CEO der IFRA\nE-mail: nicole.naumann@mb.tu-chemnitz.de
ORGANIZER:MAILTO:nicole.naumann@mb.tu-chemnitz.de
UID:10339@www.tu-chemnitz.de
CREATED:20080521T120900Z
DTSTAMP:20210802T194200Z
END:VEVENT
END:VCALENDAR
