BEGIN:VCALENDAR
VERSION:2.0
PRODID:TU Chemnitz
METHOD:PUBLISH
X-WR-CALNAME:Veranstaltungen der TU Chemnitz
X-WR-TIMEZONE:Europe/Berlin
BEGIN:VEVENT
CLASS:PUBLIC
DTSTART;TZID="Europe/Berlin":20080522T153000
DTEND;TZID="Europe/Berlin":20080522T180000
LOCATION:Reichenhainer Str. 90\, Chemnitz (Zentr. Hörsaal- und Seminargebäude)
SUMMARY:en passant (Philosophische Fakultät\, Romanische Kulturwissenwisssenchaft)
DESCRIPTION:Transkulturelles Symposium für Marie-Françoise Vignaud & Jean-René Guerrot.\nKulturwissenschaftliche Themenfelder in Text\, Bild & Ton werden auf der Folie differenter kultureller & sprachlicher Entitäten methodisch perspektiviert.\nBank/Brummert/ Hudabiunigg/Leupold/van der Meer\nInes Goerg 0371 - 5313 85 34 ines.goerg@phil.tu-chemnitz.de
ORGANIZER:MAILTO:ulrike.brummert@phil.tu-chemnitz.de
UID:10334@www.tu-chemnitz.de
CREATED:20080519T170700Z
DTSTAMP:20210802T194204Z
END:VEVENT
END:VCALENDAR
