BEGIN:VCALENDAR
VERSION:2.0
PRODID:TU Chemnitz
METHOD:PUBLISH
X-WR-CALNAME:Veranstaltungen der TU Chemnitz
X-WR-TIMEZONE:Europe/Berlin
BEGIN:VEVENT
CLASS:PUBLIC
DTSTART;TZID="Europe/Berlin":20080525T190000
DTEND;TZID="Europe/Berlin":20080525T200000
LOCATION:Schauspielhaus Chemnitz - Kleine Bühne
SUMMARY:Filmpremiere "schief schlafen - habib ahlami" (AG In- und Ausländer e.V. Chemnitz)
DESCRIPTION:Der Film entstand im Rahmen eines interkulturellen und generationsübergreifenden Workshops\, der von uns im Zeitraum von Dezember 2007 bis Mai 2008 in Kooperation mit der Freien Mediengruppe "binario stern" durchgeführt wurde.
ORGANIZER:MAILTO:georg.spindler@phil.tu-chemnitz.de
UID:10332@www.tu-chemnitz.de
CREATED:20080519T132300Z
DTSTAMP:20210802T194203Z
END:VEVENT
END:VCALENDAR
