BEGIN:VCALENDAR
VERSION:2.0
PRODID:TU Chemnitz
METHOD:PUBLISH
X-WR-CALNAME:Veranstaltungen der TU Chemnitz
X-WR-TIMEZONE:Europe/Berlin
BEGIN:VEVENT
CLASS:PUBLIC
DTSTART;TZID="Europe/Berlin":20080519T193000
DTEND;TZID="Europe/Berlin":20080519T193000
LOCATION:Reichenhainer Str. 55\, Chemnitz (Mensa)
SUMMARY:Unifilm - Von Löwen und Lämmern (Unifilm Chemnitz)
DESCRIPTION:Der Antikriegsfilm unserer Zeit mit hochkarätiger Besetzung (Robert Redford\, Meryl Streep\, Tom Cruise) heut in der Mensa der TU Chemnitz. Mehr Infos unter: http://www.treffamcampus.de/.\n\nEinlass: 19:30 Uhr | Beginn: ab 20:30 Uhr | Eintritt: 1\,50 €
ORGANIZER:MAILTO:frank.scheibner@s2003.tu-chemnitz.de
UID:10331@www.tu-chemnitz.de
CREATED:20080519T082300Z
DTSTAMP:20210802T194157Z
END:VEVENT
END:VCALENDAR
