BEGIN:VCALENDAR
VERSION:2.0
PRODID:TU Chemnitz
METHOD:PUBLISH
X-WR-CALNAME:Veranstaltungen der TU Chemnitz
X-WR-TIMEZONE:Europe/Berlin
BEGIN:VEVENT
CLASS:PUBLIC
DTSTART;TZID="Europe/Berlin":20000704T190000
DTEND;TZID="Europe/Berlin":20000704T200000
LOCATION:Uni-Teil 9: Wilhelm-Raabe-Str. 43\, Chemnitz
SUMMARY:Antrittsvorlesung der Philosophischen Fakultät: "Gute Argumente allein überzeugen nicht - Zur Sozialpsychologie persuasiver Kommunikationen" (Philosophische Fakultät)
DESCRIPTION:Prof. Dr. Klaus Jonas\, Professor für Wirtschafts-\, Organisations- und Sozialpsychologie\nDr. Renate Wißuwa\, Tel.: 0371/5312614\, E-Mail: renate.wissuwa@phil. tu-chemnitz.de
ORGANIZER:MAILTO:rwi@hrz.tu-chemnitz.de
UID:1033@www.tu-chemnitz.de
CREATED:20000316T093900Z
DTSTAMP:20210802T202922Z
END:VEVENT
END:VCALENDAR
