BEGIN:VCALENDAR
VERSION:2.0
PRODID:TU Chemnitz
METHOD:PUBLISH
X-WR-CALNAME:Veranstaltungen der TU Chemnitz
X-WR-TIMEZONE:Europe/Berlin
BEGIN:VEVENT
CLASS:PUBLIC
DTSTART;TZID="Europe/Berlin":20080508T193000
DTEND;TZID="Europe/Berlin":20080508T220000
LOCATION:Musum Gunzenhauser\, Stollberger Str. 2
SUMMARY:AgricolaFORUM - Otto Dix. Ein Mensch\, der Mut hat\, ja zu sagen. (TU Chemnitz\, Katholische Akademie Dresden)
DESCRIPTION:Die Arbeiten von Otto Dix bilden - neben Conrad Felixmüller - das Herzstück im Museum Gunzenhauser. Vortrag und anschließender Rundgang bieten die Möglichkeit\, das Wirken eines der bedeutendster Maler des 20. Jahrhunderts näher kennenzulernen.\nThomas Friedrich\, Kurator im Museum Gunzenhauser
ORGANIZER:MAILTO:friedrich.naumann@phil.tu-chemnitz.de
UID:10246@www.tu-chemnitz.de
CREATED:20080502T093800Z
DTSTAMP:20210802T194157Z
END:VEVENT
END:VCALENDAR
