BEGIN:VCALENDAR
VERSION:2.0
PRODID:TU Chemnitz
METHOD:PUBLISH
X-WR-CALNAME:Veranstaltungen der TU Chemnitz
X-WR-TIMEZONE:Europe/Berlin
BEGIN:VEVENT
CLASS:PUBLIC
DTSTART;TZID="Europe/Berlin":20080501T210000
DTEND;TZID="Europe/Berlin":20080501T230000
LOCATION:Kino\, Reichenhainer Str. 35-37\, Keller
SUMMARY:[Campuskino * "mittendrin"] I'm not there (http://www.filmclub-mittendrin.de/)
DESCRIPTION:Bob Dylan hat viele Masken. Sechs davon werden von verschiedenen Schauspielern dargestellt. U.a. Cate Blanchett als wunderbar giftiger Dylan zu seiner hipsten Zeit Mitte der Sechziger Jahre...
ORGANIZER:MAILTO:robert.gerstenberger@s2004.tu-chemnitz.de
UID:10244@www.tu-chemnitz.de
CREATED:20080430T105200Z
DTSTAMP:20210802T194149Z
END:VEVENT
END:VCALENDAR
