BEGIN:VCALENDAR
VERSION:2.0
PRODID:TU Chemnitz
METHOD:PUBLISH
X-WR-CALNAME:Veranstaltungen der TU Chemnitz
X-WR-TIMEZONE:Europe/Berlin
BEGIN:VEVENT
CLASS:PUBLIC
DTSTART;TZID="Europe/Berlin":20080501T100000
DTEND;TZID="Europe/Berlin":20080501T235900
LOCATION:Vettersstr. 52/54\, Chemnitz (Studentenwohnheim)
SUMMARY:Schwarzbierfest (Windkanal e.V.)
DESCRIPTION:-- \nSchwarzbierfest zum Männertag ... \n\n... lecker Mutzbraten mit Sauerkraut\n... und dazu Köstritzer Schwarzbier \n\n... dem gibts dann wirklich nichts mehr hinzuzufügen ...\n--\nwindkanal@tu-chemnitz.de
ORGANIZER:MAILTO:rene.meyer@informatik.tu-chemnitz.de
UID:10234@www.tu-chemnitz.de
CREATED:20080429T093900Z
DTSTAMP:20210802T194154Z
END:VEVENT
END:VCALENDAR
