BEGIN:VCALENDAR
VERSION:2.0
PRODID:TU Chemnitz
METHOD:PUBLISH
X-WR-CALNAME:Veranstaltungen der TU Chemnitz
X-WR-TIMEZONE:Europe/Berlin
BEGIN:VEVENT
CLASS:PUBLIC
DTSTART;TZID="Europe/Berlin":20080508T160000
DTEND;TZID="Europe/Berlin":20080508T170000
LOCATION:Reichenhainer Str. 90\, Chemnitz (Zentr. Hörsaal- und Seminargebäude)
SUMMARY:Adam-Ries-Kolloquium: Faszination Symmetrie: Spezielle Klassen konvexer Polyeder (Fakultät für Mathematik)
DESCRIPTION:Konvexe Polyeder sind Vielflächner\, die aus nach außen gewölbten Formen bestehen. Zu ihnen zählen auch die sogenannten „Platonischen Körper“. Im Kolloquium wird es unter anderem um deren Geschichte\, Eigenschaften und Anwendung gehen.\nProf. Dr. Horst Martini
ORGANIZER:MAILTO:anett.michael@s2006.tu-chemnitz.de
UID:10209@www.tu-chemnitz.de
CREATED:20080424T174900Z
DTSTAMP:20210802T194158Z
END:VEVENT
END:VCALENDAR
