BEGIN:VCALENDAR
VERSION:2.0
PRODID:TU Chemnitz
METHOD:PUBLISH
X-WR-CALNAME:Veranstaltungen der TU Chemnitz
X-WR-TIMEZONE:Europe/Berlin
BEGIN:VEVENT
CLASS:PUBLIC
DTSTART;TZID="Europe/Berlin":20080429T171500
DTEND;TZID="Europe/Berlin":20080429T184500
LOCATION:Wilhelm-Raabe-Str. 43\, Chemnitz
SUMMARY:Neuronale\, kognitive und situative Komponenten des menschlichen Verstehens von Situationen\, Texten und Bildern. (TU Chemnitz\, Allgemeine und Arbeitspsychologie)
DESCRIPTION:Prof. Dr. Franz Schmalhofer\, Universität Osnabrück
ORGANIZER:MAILTO:christine.uhlmann@phil.tu-chemnitz.de
UID:10202@www.tu-chemnitz.de
CREATED:20080422T112600Z
DTSTAMP:20210802T194239Z
END:VEVENT
END:VCALENDAR
