BEGIN:VCALENDAR
VERSION:2.0
PRODID:TU Chemnitz
METHOD:PUBLISH
X-WR-CALNAME:Veranstaltungen der TU Chemnitz
X-WR-TIMEZONE:Europe/Berlin
BEGIN:VEVENT
CLASS:PUBLIC
DTSTART;TZID="Europe/Berlin":19981008T090000
DTEND;TZID="Europe/Berlin":19981008T160000
LOCATION:Uni-Teil 7: Erfenschlager Str. 73\, Chemnitz
SUMMARY:IMPULSE (Fakultät für Maschinenbau und Verfahrenstechnik\, CIMTT)
DESCRIPTION:1. Schichtplanung mit flexibler Arbeitszeit (9.00 - 12.00 Uhr)\n2. Auftragssteuerung für kleine Betriebe (13.00 - 16.00 Uhr)\n\n Dipl.-Wirtsch.-Ing. M.Sager\, Dipl. -Ing. B.Keil\nCIMTT\, 531 2250/2218\, cimtt@mb2.tu-chemnitz.de
ORGANIZER:MAILTO:yan@hrz.tu-chemnitz.de
UID:102@www.tu-chemnitz.de
CREATED:19980929T143500Z
DTSTAMP:20210802T203602Z
END:VEVENT
END:VCALENDAR
