BEGIN:VCALENDAR
VERSION:2.0
PRODID:TU Chemnitz
METHOD:PUBLISH
X-WR-CALNAME:Veranstaltungen der TU Chemnitz
X-WR-TIMEZONE:Europe/Berlin
BEGIN:VEVENT
CLASS:PUBLIC
DTSTART;TZID="Europe/Berlin":20080429T193000
DTEND;TZID="Europe/Berlin":20080429T235900
LOCATION:Reichenhainer Str. 55\, Chemnitz (Mensa)
SUMMARY:Championsleague live
DESCRIPTION:Wer kommt ins Finale? \nRückspiel live Machchester United gegen Barcelona
ORGANIZER:MAILTO:christian.piek@s1999.tu-chemnitz.de
UID:10179@www.tu-chemnitz.de
CREATED:20080418T190900Z
DTSTAMP:20210802T194248Z
END:VEVENT
END:VCALENDAR
