BEGIN:VCALENDAR
VERSION:2.0
PRODID:TU Chemnitz
METHOD:PUBLISH
X-WR-CALNAME:Veranstaltungen der TU Chemnitz
X-WR-TIMEZONE:Europe/Berlin
BEGIN:VEVENT
CLASS:PUBLIC
DTSTART;TZID="Europe/Berlin":20080715T153000
DTEND;TZID="Europe/Berlin":20080715T170000
LOCATION:Reichenhainer Str. 90\, Chemnitz (Zentr. Hörsaal- und Seminargebäude)
SUMMARY:Seniorenkolleg: Wirkung der Globalisierung auf den Wirtschaftsstandort Deutschland (Fakultät für Maschinenbau\, CreativeCenter)
DESCRIPTION:Weiterbildungsangebot für ältere Bürger\, die nicht mehr im Berufsleben stehen; \nTageskarte: 2\,50 EUR\, Semesterkarte: 17\,00 EUR\nProf. Dr. Hartmut Kowalke\, TU Dresden\nE-Mail: seniorenkolleg@tu-chemnitz.de
ORGANIZER:MAILTO:katja.wagner@mb.tu-chemnitz.de
UID:10143@www.tu-chemnitz.de
CREATED:20080416T124200Z
DTSTAMP:20210802T194057Z
END:VEVENT
END:VCALENDAR
