BEGIN:VCALENDAR
VERSION:2.0
PRODID:TU Chemnitz
METHOD:PUBLISH
X-WR-CALNAME:Veranstaltungen der TU Chemnitz
X-WR-TIMEZONE:Europe/Berlin
BEGIN:VEVENT
CLASS:PUBLIC
DTSTART;TZID="Europe/Berlin":20080514T171500
DTEND;TZID="Europe/Berlin":20080514T184500
LOCATION:Reichenhainer Str. 90\, Chemnitz (Zentr. Hörsaal- und Seminargebäude)
SUMMARY:Physikalisches Kolloquium: " Festkörper mit gebrochenen Ladungen" (Fakultät für Naturwissenschaften\, Institut für Physik)
DESCRIPTION:Prof. Dr. Peter Fulde; MPI Dresden\, Physik komplexer Systeme\nProf. Dr. Michael Hietschold\, Tel.: 531-33203
ORGANIZER:MAILTO:michaela.knierim@physik.tu-chemnitz.de
UID:10113@www.tu-chemnitz.de
CREATED:20080414T081300Z
DTSTAMP:20210802T194145Z
END:VEVENT
END:VCALENDAR
