BEGIN:VCALENDAR
VERSION:2.0
PRODID:TU Chemnitz
METHOD:PUBLISH
X-WR-CALNAME:Veranstaltungen der TU Chemnitz
X-WR-TIMEZONE:Europe/Berlin
BEGIN:VEVENT
CLASS:PUBLIC
DTSTART;TZID="Europe/Berlin":20080417T184500
DTEND;TZID="Europe/Berlin":20080417T203000
LOCATION:Reichenhainer Str. 90\, Chemnitz (Zentr. Hörsaal- und Seminargebäude)
SUMMARY:Bio in der Mensa... (Wie) geht das? (TU Chemnitz\, Grüne Hochschulgruppe)
DESCRIPTION:Dieser Frage widmet sich die Podiumsdiskussion mit VertreterInnen vom Studentenrat der TU Chemnitz (angefragt)\, Studentenwerk Chemnitz - Zwickau\, dem Studentenwerk Freiberg - Mittweida sowie vom Ökolöwe Leipzig.\nulrike_buergel@s2005.tu-chemnitz.de
ORGANIZER:MAILTO:ulrike.buergel@s2005.tu-chemnitz.de
UID:10109@www.tu-chemnitz.de
CREATED:20080412T000100Z
DTSTAMP:20210802T194237Z
END:VEVENT
END:VCALENDAR
