BEGIN:VCALENDAR
VERSION:2.0
PRODID:TU Chemnitz
METHOD:PUBLISH
X-WR-CALNAME:Veranstaltungen der TU Chemnitz
X-WR-TIMEZONE:Europe/Berlin
BEGIN:VEVENT
CLASS:PUBLIC
DTSTART;TZID="Europe/Berlin":20080422T190000
DTEND;TZID="Europe/Berlin":20080422T190000
LOCATION:Reichenhainer Str. 90\, Chemnitz (Zentr. Hörsaal- und Seminargebäude)
SUMMARY:Die Grenzen der Gastfreundschaft. (Philosophische Fakultät\, Professur für Interkulturelle Kommunikation)
DESCRIPTION:PD Dr. Heidrun Friese
ORGANIZER:MAILTO:steffi.nothnagel@phil.tu-chemnitz.de
UID:10106@www.tu-chemnitz.de
CREATED:20080411T155800Z
DTSTAMP:20210802T194246Z
END:VEVENT
END:VCALENDAR
