BEGIN:VCALENDAR
VERSION:2.0
PRODID:TU Chemnitz
METHOD:PUBLISH
X-WR-CALNAME:Veranstaltungen der TU Chemnitz
X-WR-TIMEZONE:Europe/Berlin
BEGIN:VEVENT
CLASS:PUBLIC
DTSTART;TZID="Europe/Berlin":20080425T100000
DTEND;TZID="Europe/Berlin":20080425T120000
LOCATION:Str. der Nationen 62\, Chemnitz (Böttcher-Bau)
SUMMARY:Informatik-Kolloquium (Fakultät für Informatik\, Professur Theoretische Informatik)
DESCRIPTION:"Spektrale Algorithmen - Mit Eigenwerten schwierige Probleme lösen"\nHerr A. Lanka
ORGANIZER:MAILTO:mandy.olzscher@informatik.tu-chemnitz.de
UID:10105@www.tu-chemnitz.de
CREATED:20080411T083200Z
DTSTAMP:20210802T194234Z
END:VEVENT
END:VCALENDAR
