BEGIN:VCALENDAR
VERSION:2.0
PRODID:TU Chemnitz
METHOD:PUBLISH
X-WR-CALNAME:Veranstaltungen der TU Chemnitz
X-WR-TIMEZONE:Europe/Berlin
BEGIN:VEVENT
CLASS:PUBLIC
DTSTART;TZID="Europe/Berlin":20080417T210000
DTEND;TZID="Europe/Berlin":20080417T210000
LOCATION:Cantaloop Club (Str. der Nationen)
SUMMARY:Pädagogen Party (von Pädagogen für alle)
DESCRIPTION:
ORGANIZER:MAILTO:anne.trojanek@s2006.tu-chemnitz.de
UID:10097@www.tu-chemnitz.de
CREATED:20080408T235200Z
DTSTAMP:20210802T194242Z
END:VEVENT
END:VCALENDAR
