BEGIN:VCALENDAR
VERSION:2.0
PRODID:TU Chemnitz
METHOD:PUBLISH
X-WR-CALNAME:Veranstaltungen der TU Chemnitz
X-WR-TIMEZONE:Europe/Berlin
BEGIN:VEVENT
CLASS:PUBLIC
DTSTART;TZID="Europe/Berlin":20080415T130000
DTEND;TZID="Europe/Berlin":20080415T180000
LOCATION:Reichenhainer Str. 70\, Chemnitz (Weinhold-Bau)
SUMMARY:Lernzentrum der TU Chemnitz: "BewerbungsCheck" (Fakultät für Maschinenbau\, CreativeCenter)
DESCRIPTION:Seminarkosten: 4\,00€ für Schüler/Studierende; 5\,50€ für Erwachsene\, Anmeldung erforderlich\nFranziska Freund\, Tel. 531-36596\, e-mail: franziska.freund@mb.tu-chemnitz.de
ORGANIZER:MAILTO:franziska.freund@mb.tu-chemnitz.de
UID:10089@www.tu-chemnitz.de
CREATED:20080408T130300Z
DTSTAMP:20210802T194244Z
END:VEVENT
END:VCALENDAR
