BEGIN:VCALENDAR
VERSION:2.0
PRODID:TU Chemnitz
METHOD:PUBLISH
X-WR-CALNAME:Veranstaltungen der TU Chemnitz
X-WR-TIMEZONE:Europe/Berlin
BEGIN:VEVENT
CLASS:PUBLIC
DTSTART;TZID="Europe/Berlin":20080424T153000
DTEND;TZID="Europe/Berlin":20080424T170000
LOCATION:Reichenhainer Str. 70\, Chemnitz (Weinhold-Bau)
SUMMARY:Workshop ‚Autorenwerkzeuge‘ (TU Chemnitz\, E-Learning-Initiative der TU Chemnitz)
DESCRIPTION:Die E-Learning-Initiative der TU Chemnitz beginnt eine Workshopreihe zur Unterstützung des netzgestützten Lehrens und Lernens mit dem Thema Autorenwerkzeuge.\nE-Learning-Initiative der TU Chemnitz\nel-portal@tu-chemnitz.de
ORGANIZER:MAILTO:thomas.leuoth@wirtschaft.tu-chemnitz.de
UID:10085@www.tu-chemnitz.de
CREATED:20080407T124800Z
DTSTAMP:20210802T194239Z
END:VEVENT
END:VCALENDAR
