BEGIN:VCALENDAR
VERSION:2.0
PRODID:TU Chemnitz
METHOD:PUBLISH
X-WR-CALNAME:Veranstaltungen der TU Chemnitz
X-WR-TIMEZONE:Europe/Berlin
BEGIN:VEVENT
CLASS:PUBLIC
DTSTART;TZID="Europe/Berlin":20080415T190000
DTEND;TZID="Europe/Berlin":20080415T210000
LOCATION:Reichenhainer Str. 70\, Chemnitz (Weinhold-Bau)
SUMMARY:Antisemitismus in der Linken (Rote Hochschulgruppe Chemnitz)
DESCRIPTION:Der Vortrag gibt einen Überblick über das Verhältnis der Linken zum Judentum\, Zionismus\, Antisemitismus. Besonderes Augenmerk liegt dabei darauf\, unter welchen Bedingungen es in der Linken zu bspw. antisemitischen Deutungsmustern kommen kann.\nPeter Ullrich
ORGANIZER:MAILTO:thomas.voelker@s2005.tu-chemnitz.de
UID:10078@www.tu-chemnitz.de
CREATED:20080404T093800Z
DTSTAMP:20210802T194237Z
END:VEVENT
END:VCALENDAR
