BEGIN:VCALENDAR
VERSION:2.0
PRODID:TU Chemnitz
METHOD:PUBLISH
X-WR-CALNAME:Veranstaltungen der TU Chemnitz
X-WR-TIMEZONE:Europe/Berlin
BEGIN:VEVENT
CLASS:PUBLIC
DTSTART;TZID="Europe/Berlin":20080407T190000
DTEND;TZID="Europe/Berlin":20080407T203000
LOCATION: Jugendkirche St. Johannis an der Zschopauer Straße (in der Nähe der Zenti)
SUMMARY:Ökumenischer SemesterAuftaktGottesDienst „Vorbild? Christ!“ (CfC\, ESG\, KSG\, SMD)
DESCRIPTION:Wir wollen das Sommersemester 08 gemeinsam mit einem Gottesdienst einleiten. Danach ist bei einem kleinen Imbiss Gelegenheit zum Gespräch.
ORGANIZER:MAILTO:hartmut.leister@s2005.tu-chemnitz.de
UID:10077@www.tu-chemnitz.de
CREATED:20080403T232600Z
DTSTAMP:20210802T194242Z
END:VEVENT
END:VCALENDAR
