BEGIN:VCALENDAR
VERSION:2.0
PRODID:TU Chemnitz
METHOD:PUBLISH
X-WR-CALNAME:Veranstaltungen der TU Chemnitz
X-WR-TIMEZONE:Europe/Berlin
BEGIN:VEVENT
CLASS:PUBLIC
DTSTART;TZID="Europe/Berlin":20080701T150000
DTEND;TZID="Europe/Berlin":20080701T160000
LOCATION:Str. der Nationen 62\, Chemnitz (Böttcher-Bau)
SUMMARY:Bibliotheksführung  (Universitätsbibliothek)
DESCRIPTION:Übersicht über die Struktur der Bibliothek\, Nutzungs- und Ausleihmodalitäten\, Einführung in die Benutzung\, Aufstellung der Literatur\, Rundgang
ORGANIZER:MAILTO:sandra.konrad@bibliothek.tu-chemnitz.de
UID:10076@www.tu-chemnitz.de
CREATED:20080403T171600Z
DTSTAMP:20210802T194059Z
END:VEVENT
END:VCALENDAR
