BEGIN:VCALENDAR
VERSION:2.0
PRODID:TU Chemnitz
METHOD:PUBLISH
X-WR-CALNAME:Veranstaltungen der TU Chemnitz
X-WR-TIMEZONE:Europe/Berlin
BEGIN:VEVENT
CLASS:PUBLIC
DTSTART;TZID="Europe/Berlin":20080509T090000
DTEND;TZID="Europe/Berlin":20080509T170000
LOCATION:Bekanntgabe nach Anmeldung
SUMMARY:Lerne Dich selbst kennen - MBTI für Gründer (Fakultät für Wirtschaftswissenschaften\, Saxeed)
DESCRIPTION:Es werden interessante Erkenntnisse zur eigenen Persönlichkeit vermittelt und aufgezeigt\, wie Ziele besser erreicht werden können. Genutzt wird dazu der Myers-Briggs-Typindikator - ein international eingesetzter Test zur Persönlichkeitsentwicklung.\nDr. Ingrid Siegel\nMarkus Braun
ORGANIZER:MAILTO:claudia.kirbach@s2003.tu-chemnitz.de
UID:10055@www.tu-chemnitz.de
CREATED:20080403T161100Z
DTSTAMP:20210802T194204Z
END:VEVENT
END:VCALENDAR
