BEGIN:VCALENDAR
VERSION:2.0
PRODID:TU Chemnitz
METHOD:PUBLISH
X-WR-CALNAME:Veranstaltungen der TU Chemnitz
X-WR-TIMEZONE:Europe/Berlin
BEGIN:VEVENT
CLASS:PUBLIC
DTSTART;TZID="Europe/Berlin":20080429T210000
DTEND;TZID="Europe/Berlin":20080429T230000
LOCATION:Kino\, Reichenhainer Str. 35-37\, Keller
SUMMARY:[Campuskino * "mittendrin"] Herr Figo und das Geheimnis der Perlenfabrik (filmclub »mittendrin«)
DESCRIPTION:In Argentinien gibt es keine Zahnfee\, sondern eine Zahnmaus names Figo. Doch dieser wird von einer Bande fieser Perlenfischer gekidnappt. Doch die kleine Lucia macht sich schon auf den Weg ihn zu befreien... Argentiniens erfolgreichster Familienfilm
ORGANIZER:MAILTO:robert.gerstenberger@s2004.tu-chemnitz.de
UID:10028@www.tu-chemnitz.de
CREATED:20080331T171600Z
DTSTAMP:20210802T194239Z
END:VEVENT
END:VCALENDAR
