BEGIN:VCALENDAR
VERSION:2.0
PRODID:TU Chemnitz
METHOD:PUBLISH
X-WR-CALNAME:Veranstaltungen der TU Chemnitz
X-WR-TIMEZONE:Europe/Berlin
BEGIN:VEVENT
CLASS:PUBLIC
DTSTART;TZID="Europe/Berlin":20080410T210000
DTEND;TZID="Europe/Berlin":20080410T230000
LOCATION:Kino\, Reichenhainer Str. 35-37\, Keller
SUMMARY:[Campuskino * "mittendrin"] There Will Be Blood (filmclub »mittendrin«)
DESCRIPTION:Fortschritt zwischen Gott und Erdöl. Daniel Day-Lewis als fanatischer Ölmagnat Daniel Plainview (OSCAR 2008!!) in Paul Thomas Andersons gefeiertem monumentalen Meisterwerk von gnadenloser Intensität.
ORGANIZER:MAILTO:joerg.schneider@mathematik.tu-chemnitz.de
UID:10025@www.tu-chemnitz.de
CREATED:20080331T153600Z
DTSTAMP:20210802T194235Z
END:VEVENT
END:VCALENDAR
