BEGIN:VCALENDAR
VERSION:2.0
PRODID:TU Chemnitz
METHOD:PUBLISH
X-WR-CALNAME:Veranstaltungen der TU Chemnitz
X-WR-TIMEZONE:Europe/Berlin
BEGIN:VEVENT
CLASS:PUBLIC
DTSTART;TZID="Europe/Berlin":20080421T201500
DTEND;TZID="Europe/Berlin":20080421T220000
LOCATION:Thalia Buchhandlung Galerie Roter Turm\, Neumarkt 2\, 09111 Chemnitz
SUMMARY:Buchlesung Hannes Heer: Hitler war’s. Die Befreiung der Deutschen von ihrer Vergangenheit (Im Rahmen der Literaturtage)
DESCRIPTION:Heer bezieht kritisch Stellung zu Joachim Fest und Guido Knopp. Am Beispiel ihrer Filme und Bücher analysiert er die Wende in der aktuellen Geschichtsbetrachtung.\nHeer entwarf am Hamburger Institut für Sozialforschung die erste Wehrmachtsausstellung.\nHannes Heer ( Autor)\nEintritt 5€ / erm. 3€ / Stiftungsmitglieder frei - Info: (03 71) 66 61 50
ORGANIZER:MAILTO:thiemo.kirmse@informatik.tu-chemnitz.de
UID:10022@www.tu-chemnitz.de
CREATED:20080331T131600Z
DTSTAMP:20210802T194233Z
END:VEVENT
END:VCALENDAR
